BEGIN:VCALENDAR
VERSION:2.0
PRODID:-//Library Market//iCal Export//EN
BEGIN:VEVENT
SUMMARY:Tiny Tot Art
UID:25327
DTSTAMP:20260424T071800Z
DTSTART:20261105T153000Z
DTEND:20261105T160000Z
LOCATION:Montgomery Campus, 1111 Reading Dr, Montgomery, IL 60538, United 
 States
ROOM: Youth Program Room
DESCRIPTION:Join us for a story, song, dancing, and an art project for our
  tiniest patrons!For ages 18-23 months.
URL:https://www.oswego.lib.il.us/event/tiny-tot-art-25327
END:VEVENT
END:VCALENDAR
