BEGIN:VCALENDAR
VERSION:2.0
PRODID:-//Library Market//iCal Export//EN
BEGIN:VEVENT
SUMMARY:Toddler Art
UID:25336
DTSTAMP:20260424T074000Z
DTSTART:20261029T151500Z
DTEND:20261029T154500Z
LOCATION:Montgomery Campus, 1111 Reading Dr, Montgomery, IL 60538, United 
 States
ROOM: Youth Program Room
DESCRIPTION:Register your toddlers for stories, songs, dancing, and art!Fo
 r ages 2 - 3.
URL:https://www.oswego.lib.il.us/event/toddler-art-25336
END:VEVENT
END:VCALENDAR
