BEGIN:VCALENDAR
VERSION:2.0
PRODID:-//Library Market//iCal Export//EN
BEGIN:VEVENT
SUMMARY:Preschool Art
UID:25362
DTSTAMP:20260424T074000Z
DTSTART:20260922T183000Z
DTEND:20260922T190000Z
LOCATION:Montgomery Campus, 1111 Reading Dr, Montgomery, IL 60538, United 
 States
ROOM: Youth Program Room
DESCRIPTION:Enjoy some process art, stories, music, and dance for our pres
 chool friends.For ages 4 - 5.
URL:https://www.oswego.lib.il.us/event/preschool-art-25362
END:VEVENT
END:VCALENDAR
