BEGIN:VCALENDAR
VERSION:2.0
PRODID:-//Library Market//iCal Export//EN
BEGIN:VEVENT
SUMMARY:Preschool Art
UID:25367
DTSTAMP:20260424T074100Z
DTSTART:20261103T193000Z
DTEND:20261103T200000Z
LOCATION:Montgomery Campus, 1111 Reading Dr, Montgomery, IL 60538, United 
 States
ROOM: Youth Program Room
DESCRIPTION:Enjoy some process art, stories, music, and dance for our pres
 chool friends.For ages 4 - 5.
URL:https://www.oswego.lib.il.us/event/preschool-art-25367
END:VEVENT
END:VCALENDAR
