BEGIN:VCALENDAR
VERSION:2.0
PRODID:-//Library Market//iCal Export//EN
BEGIN:VEVENT
SUMMARY:Creepy Carrot Storytime
UID:25384
DTSTAMP:20260424T074000Z
DTSTART:20261026T230000Z
DTEND:20261026T233000Z
LOCATION:Montgomery Campus, 1111 Reading Dr, Montgomery, IL 60538, United 
 States
ROOM: Youth Program Room
DESCRIPTION:Join us for a story about Jaspar and some scary vegetables, th
 en make your own creepy carrots!For kindergarten - grade 2
URL:https://www.oswego.lib.il.us/event/creepy-carrot-storytime-25384
END:VEVENT
END:VCALENDAR
