BEGIN:VCALENDAR
VERSION:2.0
PRODID:-//Library Market//iCal Export//EN
BEGIN:VEVENT
SUMMARY:Spectral Squeegee Art
UID:25385
DTSTAMP:20260424T074100Z
DTSTART:20261022T190000Z
DTEND:20261022T193000Z
LOCATION:Oswego Campus, 32 West Jefferson St, Oswego, IL 60543, United Sta
 tes
ROOM: Youth Program Room
DESCRIPTION:Come try out squeegee art! Might be messy so dress appropriate
 ly.For grades 3 - 5.
URL:https://www.oswego.lib.il.us/event/spectral-squeegee-art-25385
END:VEVENT
END:VCALENDAR
