BEGIN:VCALENDAR
VERSION:2.0
PRODID:-//Library Market//iCal Export//EN
BEGIN:VEVENT
SUMMARY:Paint Party
UID:25386
DTSTAMP:20260424T074100Z
DTSTART:20261013T230000Z
DTEND:20261014T000000Z
LOCATION:Oswego Campus, 32 West Jefferson St, Oswego, IL 60543, United Sta
 tes
ROOM: Youth Program Room
DESCRIPTION:Come make a spooky masterpiece at the library.  No previous p
 aint experience required.  Please dress to make a mess.For grades 3-5.
URL:https://www.oswego.lib.il.us/event/paint-party-25386
END:VEVENT
END:VCALENDAR
