BEGIN:VCALENDAR
VERSION:2.0
PRODID:-//Library Market//iCal Export//EN
BEGIN:VEVENT
SUMMARY:Potion Play
UID:25387
DTSTAMP:20260424T071800Z
DTSTART:20261027T230000Z
DTEND:20261027T233000Z
LOCATION:Oswego Campus, 32 West Jefferson St, Oswego, IL 60543, United Sta
 tes
ROOM: Youth Program Room
DESCRIPTION:Come enjoy some spooky sensory play and make pretend concoctio
 ns in our sensory bins!  Come dressed to make a mess.For kindergarten - g
 rade 2.
URL:https://www.oswego.lib.il.us/event/potion-play-25387
END:VEVENT
END:VCALENDAR
