BEGIN:VCALENDAR
VERSION:2.0
PRODID:-//Library Market//iCal Export//EN
BEGIN:VEVENT
SUMMARY:Potion Craft
UID:25388
DTSTAMP:20260424T071800Z
DTSTART:20261028T000000Z
DTEND:20261028T003000Z
LOCATION:Oswego Campus, 32 West Jefferson St, Oswego, IL 60543, United Sta
 tes
ROOM: Youth Program Room
DESCRIPTION:Come to the library to design your very own magic potion to ta
 ke home!For grades 3 - 5.
URL:https://www.oswego.lib.il.us/event/potion-craft-25388
END:VEVENT
END:VCALENDAR
