BEGIN:VCALENDAR
VERSION:2.0
PRODID:-//Library Market//iCal Export//EN
BEGIN:VEVENT
SUMMARY:Glow Party
UID:25390
DTSTAMP:20260424T102300Z
DTSTART:20261125T000000Z
DTEND:20261125T010000Z
LOCATION:Montgomery Campus, 1111 Reading Dr, Montgomery, IL 60538, United 
 States
ROOM: Youth Program Room
DESCRIPTION:Glow big or glow home!  Drop in for some glow-tastic grooves 
 and moves!For families with children to grade 5.
URL:https://www.oswego.lib.il.us/event/glow-party-25390
END:VEVENT
END:VCALENDAR
