BEGIN:VCALENDAR
VERSION:2.0
PRODID:-//Library Market//iCal Export//EN
BEGIN:VEVENT
SUMMARY:Weather and Storm Chasing 101
UID:25544
DTSTAMP:20260424T074100Z
DTSTART:20261021T000000Z
DTEND:20261021T010000Z
LOCATION:Oswego Campus, 32 West Jefferson St, Oswego, IL 60543, United Sta
 tes
ROOM: Meeting Room
DESCRIPTION:Weather and Storm Chasing 101 will discuss severe storm chasin
 g and forecasting plus local climatology.
URL:https://www.oswego.lib.il.us/event/weather-and-storm-chasing-101-25544
END:VEVENT
END:VCALENDAR
