BEGIN:VCALENDAR
VERSION:2.0
PRODID:-//Library Market//iCal Export//EN
BEGIN:VEVENT
SUMMARY:Get  Crafty
UID:25548
DTSTAMP:20260424T071800Z
DTSTART:20261216T003000Z
DTEND:20261216T020000Z
LOCATION:Montgomery Campus, 1111 Reading Dr, Montgomery, IL 60538, United 
 States
ROOM: Meeting Room
DESCRIPTION:
URL:https://www.oswego.lib.il.us/event/get-crafty-25548
END:VEVENT
END:VCALENDAR
